BEGIN:VCALENDAR
VERSION:2.0
PRODID:-//DiRS GBU - ECPv6.14.2//NONSGML v1.0//EN
CALSCALE:GREGORIAN
METHOD:PUBLISH
X-ORIGINAL-URL:https://dirs.gbu.it
X-WR-CALDESC:Eventi per DiRS GBU
REFRESH-INTERVAL;VALUE=DURATION:PT1H
X-Robots-Tag:noindex
X-PUBLISHED-TTL:PT1H
BEGIN:VTIMEZONE
TZID:Europe/Rome
BEGIN:DAYLIGHT
TZOFFSETFROM:+0100
TZOFFSETTO:+0200
TZNAME:CEST
DTSTART:20150329T010000
END:DAYLIGHT
BEGIN:STANDARD
TZOFFSETFROM:+0200
TZOFFSETTO:+0100
TZNAME:CET
DTSTART:20151025T010000
END:STANDARD
BEGIN:DAYLIGHT
TZOFFSETFROM:+0100
TZOFFSETTO:+0200
TZNAME:CEST
DTSTART:20160327T010000
END:DAYLIGHT
BEGIN:STANDARD
TZOFFSETFROM:+0200
TZOFFSETTO:+0100
TZNAME:CET
DTSTART:20161030T010000
END:STANDARD
BEGIN:DAYLIGHT
TZOFFSETFROM:+0100
TZOFFSETTO:+0200
TZNAME:CEST
DTSTART:20170326T010000
END:DAYLIGHT
BEGIN:STANDARD
TZOFFSETFROM:+0200
TZOFFSETTO:+0100
TZNAME:CET
DTSTART:20171029T010000
END:STANDARD
BEGIN:DAYLIGHT
TZOFFSETFROM:+0100
TZOFFSETTO:+0200
TZNAME:CEST
DTSTART:20180325T010000
END:DAYLIGHT
BEGIN:STANDARD
TZOFFSETFROM:+0200
TZOFFSETTO:+0100
TZNAME:CET
DTSTART:20181028T010000
END:STANDARD
BEGIN:DAYLIGHT
TZOFFSETFROM:+0100
TZOFFSETTO:+0200
TZNAME:CEST
DTSTART:20190331T010000
END:DAYLIGHT
BEGIN:STANDARD
TZOFFSETFROM:+0200
TZOFFSETTO:+0100
TZNAME:CET
DTSTART:20191027T010000
END:STANDARD
BEGIN:DAYLIGHT
TZOFFSETFROM:+0100
TZOFFSETTO:+0200
TZNAME:CEST
DTSTART:20200329T010000
END:DAYLIGHT
BEGIN:STANDARD
TZOFFSETFROM:+0200
TZOFFSETTO:+0100
TZNAME:CET
DTSTART:20201025T010000
END:STANDARD
BEGIN:DAYLIGHT
TZOFFSETFROM:+0100
TZOFFSETTO:+0200
TZNAME:CEST
DTSTART:20210328T010000
END:DAYLIGHT
BEGIN:STANDARD
TZOFFSETFROM:+0200
TZOFFSETTO:+0100
TZNAME:CET
DTSTART:20211031T010000
END:STANDARD
BEGIN:DAYLIGHT
TZOFFSETFROM:+0100
TZOFFSETTO:+0200
TZNAME:CEST
DTSTART:20220327T010000
END:DAYLIGHT
BEGIN:STANDARD
TZOFFSETFROM:+0200
TZOFFSETTO:+0100
TZNAME:CET
DTSTART:20221030T010000
END:STANDARD
BEGIN:DAYLIGHT
TZOFFSETFROM:+0100
TZOFFSETTO:+0200
TZNAME:CEST
DTSTART:20230326T010000
END:DAYLIGHT
BEGIN:STANDARD
TZOFFSETFROM:+0200
TZOFFSETTO:+0100
TZNAME:CET
DTSTART:20231029T010000
END:STANDARD
BEGIN:DAYLIGHT
TZOFFSETFROM:+0100
TZOFFSETTO:+0200
TZNAME:CEST
DTSTART:20240331T010000
END:DAYLIGHT
BEGIN:STANDARD
TZOFFSETFROM:+0200
TZOFFSETTO:+0100
TZNAME:CET
DTSTART:20241027T010000
END:STANDARD
BEGIN:DAYLIGHT
TZOFFSETFROM:+0100
TZOFFSETTO:+0200
TZNAME:CEST
DTSTART:20250330T010000
END:DAYLIGHT
BEGIN:STANDARD
TZOFFSETFROM:+0200
TZOFFSETTO:+0100
TZNAME:CET
DTSTART:20251026T010000
END:STANDARD
END:VTIMEZONE
BEGIN:VEVENT
DTSTART;VALUE=DATE:20251205
DTEND;VALUE=DATE:20251209
DTSTAMP:20260419T185947
CREATED:20241105T110436Z
LAST-MODIFIED:20251201T091333Z
UID:3163-1764892800-1765238399@dirs.gbu.it
SUMMARY:18° Convegno di Studi GBU 2025
DESCRIPTION:  \n \nMark Meynell \nMark è nato a Londra\, è uno scrittore freelance\, cappellano in Whitehall e Direttore per l’Europa e i Caraibi di Langham Preaching (parte di Langham Partnership).\nE’ sposato con Rachel e hanno due figli: Joshua and Zanna. \nPer nove anni è stato senior staff di All Souls Langham Place \n  \n  \n  \n  \nPRENOTAZIONI\n  \nGuarda il programma QUI\n\nLe cinque sessioni che svilupperanno il tema Vivere e confrontarsi con il dubbio\n  \n1. Dubbi dovuti alla nostra NATURA\nSiamo deboli e limitati per nostra stessa natura.\nDio no. Questo crea immediatamente uno squilibrio che il mondo moderno\, nella sua futilità\, cerca di superare.\nIsaia 55:6-13\n\n2. Dubbi insiti nelle nostre CREDENZE\nAbacuc lottò contro l’assenza di giudizio nei confronti del male che imperversava ai suoi tempi;\nquando alla fine arrivò il giudizio\, lottò ancora di più contro i metodi di Dio (poiché gli agenti divini del giudizio erano i Babilonesi!)\nAbacuc 3:1-19\n\n3. Dubbi dovuti al nostro SCETTICISMO\nTommaso è stato definito il santo patrono degli scettici\, ma forse questa nomea è un po’ ingiusta.\nÈ più simile a qualcuno che non vuole essere ingannato o raggirato.\nC’è così tanto da imparare dal modo in cui il Signore lo tratta.\nGiovanni 20:24-29\n\n4. Dubbi che non CONDIVIDIAMO\nCome possiamo affrontare lo scetticismo e persino l’ostilità del mondo contemporaneo?\nEsamineremo alcuni episodi verificatisi nel corso del primo arrivo di Paolo in Europa.\nAtti 17\n\nCulto: Dubbi relativi alla nostra INDEGNITÀ\n\n\n\n\nLa restaurazione di Pietro è uno dei doni e delle dichiarazioni più importanti che il Signore fa alla chiesa primitiva.\nPerché!?\nLuca 22:54-62\n\n\n\n\n  \nRISORSE \nUn credente può avere dubbi?\nAscolta il contributo de L’Asina loquace \n\nProgramma\n \n  \n 
URL:https://dirs.gbu.it/evento/convegno-di-studi-gbu-2025/
LOCATION:Grand Hotel Montesilvano\, Viale Kennedy\, 28\, Montesilvano\, Pescara\, 65015\, Italia
CATEGORIES:Convegno Nazionale GBU
ATTACH;FMTTYPE=image/png:https://dirs.gbu.it/wordpress/wp-content/uploads/2024/11/NL.png
ORGANIZER;CN="DiRS GBU (Associazione GBU%2C Edizioni GBU%2C Sala di Lettura GBU)":MAILTO:convegnonazionale@gbu.it
END:VEVENT
BEGIN:VEVENT
DTSTART;TZID=Europe/Rome:20241031T150000
DTEND;TZID=Europe/Rome:20241103T150000
DTSTAMP:20260419T185947
CREATED:20231211T092833Z
LAST-MODIFIED:20241112T160050Z
UID:2823-1730386800-1730646000@dirs.gbu.it
SUMMARY:17° CONVEGNO DI STUDI GBU
DESCRIPTION:Emil Shehadeh\, medico in pensione\, è nato in Israele ma si è formato in Inghilterra. ha collaborato con Child Evangelism Fellowship e OM. Agli inizi del 1990 ha fondato una chiesa di arabi a Cardiff\, in Galles. Dopo la pensione si è dedicato allo studio dell’Islam e dell’evangelizzazione dei mussulmani impegnadosi nella testimonianza in Nord Africa e in Nigeria.\nHa conseguito un PhD in Islamic Studies. Altre info qui \n  \nPer i nostri amici musulmani a cui capita di imbattersi in queste pagina.\nIl nostro convegno è un convegno di studio che affronta molti temi nell’ottica del vangelo. Questo significa che non isamo animati da uno spirito proselitistico teso a imporre sul nostro prossimo (sia esso l’ateo\, come per il convegno dello scorso anno\, o il musulmano o altri ancora) modelli culturali di qualsiasi genere. Il nostro desiderio è che la gente possa conoscere la buona notizia di Gesù. Siamo infatti convinti che nei confronti di questa buona notizia si registra una triste confusione\, prima di tutto in Occidente. Quando parliamo di Gesù\, siamo infatti noi i primi che ci sentiamo spinti a mettere continuamente in discussione le nostre certezze e i nostri privilegi per vederci alla luce di colui che ha espresso l’amore di Dio\, il misericordioso. Come afferma il titolo del convegno\, vogliamo imparare a vivere e a confrontarci con le persone che vivono la loro condizione di fede in maniera diversa dai discepoli di Gesù. Pensiamo che sia questo il miglior modo di permettere a Gesù stesso di manifestarsi nel mondo\, quando cioè gli uomini\, e in paricolare i suoi discepoli\, cercano e vivono la pace con chiunque\, pur professando con amore e rispetto di essere appunto dei discepoli di Gesù Cristo. \n  \nLE RELAZIONI DI EMIL \n\nProfeti veri e falsi. Una generale introduzione all’Islam\nGesù è il Messia. Come condividere il vangelo con i musulmani\nCome vivere insieme ai musulmani\nDifendersi dalle accuse dei musulmani\n\n  \nSEMINARI \n– Giancarlo Rinaldi\, La corsa del profeta\n– Francesco Maggio\, Gesù di Nazaret e Maometto: vite parallele?\n– Intervista a Miroslav Volf\n– C. Monopoli e A. Beville\, La percezione dell’islam nella letteratura dalle origini fino ai giorni nostri / L’islam così com’è (Lewis e l’Islam)\n– G.C. Di Gaetano\, Vivere e confrontarsi con …\n– V. Bernardi\, L’Islam a Losanna IV\n– Tavola rotonda\, Accogliere e integrare l’Islam\n– Discepoli di Cristo nella Casa dell’Islam\, Angelo Currò (Porte Aperte) \n  \nEvangelical Focus parla del Convegno\nQuesto è il PROGRAMMA ufficiale del Convegno\nVuoi leggere qualcosa per prepararti al Convegno? \n\n– Vivere e confrontarsi con … (vivere)\, di Giacomo Carlo Di Gaetano\n– Vivere e confrontarsi con … (confrontarsi)\, di Giacomo Carlo Di Gaetano\n– La croce e la mezzaluna\, di Giacomo Carlo Di Gaetano\n– O si sceglie la guerra o si sceglie la pace\, di Marcello Favareto\n– Riflessioni teologiche su Israele e la Palestina\, di Gerald R. McDermott\n– Prestito o eredità\, di Andy Bannister\n– Tre domande a Giancarlo Rinaldi\n– Tre domande a Francesco Maggio\n17° Convegno Studi GBU. Impressioni\, di Maria Gil Orefice
URL:https://dirs.gbu.it/evento/17-convegno-di-studi-gbu/
LOCATION:Grand Hotel Montesilvano\, Viale Kennedy\, 28\, Montesilvano\, Pescara\, 65015\, Italia
CATEGORIES:Convegno Nazionale GBU
ATTACH;FMTTYPE=image/png:https://dirs.gbu.it/wordpress/wp-content/uploads/2023/12/1080x1920.png
ORGANIZER;CN="DiRS GBU (Associazione GBU%2C Edizioni GBU%2C Sala di Lettura GBU)":MAILTO:convegnonazionale@gbu.it
END:VEVENT
BEGIN:VEVENT
DTSTART;TZID=Europe/Rome:20231207T140000
DTEND;TZID=Europe/Rome:20231210T150000
DTSTAMP:20260419T185947
CREATED:20220519T194544Z
LAST-MODIFIED:20231128T150758Z
UID:2613-1701957600-1702220400@dirs.gbu.it
SUMMARY:16° Convegno di Studi GBU
DESCRIPTION:Stefan Gustavsson\, Stoccolma\, è membro del Comitato Direttivo dello European Leadership Forum. E’ anche il direttore di Apologia – Centre for Christian Apologetics. E’ stato per sedici anni Segretario Generale dell’Alleanza Evangelica Svedese ed è impegnato in un ampio ministero di insegnamento e formazione apologetico che lo vede spesso coinvolto in dibattiti pubblici e in special modo in contesto universitario. \nAl Convegno sarà presentato la traduzione italiana del suo libro: Sostenere le ragioni della fede \nAscolta QUI alcune conferenze di Stephan (in inglese) \n\n\nIl Convegno di quest’anno si pone l’obiettivo di riflettere sul confronto a tutto campo che i cristiani possono avere con l’ateismo e soprattutto con coloro che professano tale posizione. Nei confronti degli atei è sicuramente importante individuare\, presentare e difendere le ragioni della fede cristiana; ma è ancor più importante studiare un modus di convivenza in cui essi possano cogliere\, nella vita dei cristiani\, il significato e la rilevanza della fede nel Dio della Bibbia\, il Padre del Signore Gesù Cristo. \nLe iscrizioni al Convegno sono aperte.\nNel modulo di prenotazione trovate tutte le info relative ai costi\nPRENOTATI QUI\n  \nMODALITA’ DI PARTECIPAZIONE:\n1. Partecipazione intero periodo con pernottamento: 3 GIORNI PENSIONE COMPLETA \n2. Partecipazione giornaliera senza pasto\n3. Partecipazione giornaliera con pasto \nPROGRAMMA 2023\nIl Convegno inzierà con la cena del 7 dicembre \nPrima Sessione plenaria: La bellezza del Dio vivente\, (Salmo 139)\nVenerdì 8 dicembre (mattino) \nSeconda Sessione plenaria: Allontanarsi da Dio: Comprendere la nostra mutevole cultura\nVenerdì 8 dicembre (pomeriggio) \nIntervista\nVenerdì 8 dicembre ore 21:00 \nTerza Sessione plenaria: Dio e la scienza: amici o nemici?\nSabato 9 dicembre (mattina) \nQuarta Sessione plenaria: Segnali di trascendenza: sull’esistenza di Dio\nSabato 9 dicembre (pomeriggio) \nYeshua\, Il Regno\nStefano Rigamonti e Lidia Genta\n(Sabato 9 dicembre ore 21:00) \nQuinta Sessione plenaria: Gesù e il significato della vita (Giovanni 1)\nDomenica 10 dicembre (mattina) \nIl convegno si concluderà con il pranzo di domenica 10 dicembre \nAttività seminariali\nG. Rinaldi\, Quando gli atei erano i cristiani\nV. Bernardi\, Dio su Netflix\nG.C. Di Gaetano e V. Bernardi\, I discepoli furono chiamati “cristiani”\nF. Schiano\, G. Donato Confrontarsi con gli atei online\nEsplorare il Cristianesimo (nuove risorse e nuove iniziative) \n  \nPreparazione \n\nNewsletter del 6 ottobre\nNewsletter del 14 ottobre\nNewsletter del 21 ottobre\nNewsletter del 17 novembre\n\n  \nINFORMAZIONI\nE–mail: info@edizionigbu.it \nTel.: 347/7445468\, 345/5217945
URL:https://dirs.gbu.it/evento/16-convegno-di-studi-gbu/
LOCATION:Grand Hotel Montesilvano\, Viale Kennedy\, 28\, Montesilvano\, Pescara\, 65015\, Italia
CATEGORIES:Convegno Nazionale GBU
ATTACH;FMTTYPE=image/jpeg:https://dirs.gbu.it/wordpress/wp-content/uploads/2022/05/copertina_facebook_convegno-2023.jpg
ORGANIZER;CN="DiRS GBU (Associazione GBU%2C Edizioni GBU%2C Sala di Lettura GBU)":MAILTO:convegnonazionale@gbu.it
END:VEVENT
BEGIN:VEVENT
DTSTART;TZID=Europe/Rome:20220513T170000
DTEND;TZID=Europe/Rome:20220515T170000
DTSTAMP:20260419T185947
CREATED:20220210T192444Z
LAST-MODIFIED:20220529T205304Z
UID:2386-1652461200-1652634000@dirs.gbu.it
SUMMARY:I video del Convegno 2022
DESCRIPTION:Di seguito trovate i link per i video delle quattro sessioni plenarie\n1. La fede: privilegi e pericoli\n2. Un deposito da conservare: l’assalto alla verità\n3. Il baluardo della fede: la verità in Cristo\n4. La fede forte sa come dire NO: un esempio da seguire \n\nCOVID E FEDE: l’esperienza di medici e ricercatori cristiani\n\n\n(15 mag 2022)\nIn questo video due medici (un responsabile di un’unità di terapia semi-intensiva e un facente funzione di primario in un reparto di cardiologia specializzato nello studio delle miocarditi legate ai vaccini) raccontano la loro esperienza con il virus; un biologo e ricercatore di neuroscienze tenta di spiegare che cosa è un virus.Dott. Emanuele Negri (Reggio Emilia)\nDott. Graziano Riccioni (Manfredonia)\nDott. Nicola Berretta (Roma)\n\nIl seminario si è tenuto nell’ambito del XV Convegno Nazionale di Studio dei Gruppi Biblici Universitari che si è tenuto a Montesilvano (PE) dal 13 al 15 maggio 2022 e avente come tema: “Curare la fede”\n\n  \n\nPresentazione del convegno\nUn vecchio canto recita: \n“Per la fede una volta insegnata\nai seguaci del santo vangel …\nvo combatter ed essere fedel” \nSappiamo molto bene che cosa significa “difendere” la fede: secoli di cristianesimo ci hanno fatto apprezzare\, anche sulla scorta degli indizi neotestamentari\, l’esercizio\, ma anche la disciplina dell’apologetica. Pietro ricorda che dobiamo essere pronti a rispondere a chiunque ci chiede ragione della nostra fede … \nMa che cosa significa “curare” la fede?\nQui\, probabilmente\, ci muoviamo su un terreno non molto conosciuto. Innanzitutto c’è il problema di determinare che cosa intendiamo con il termine “fede”. Se ci facciamo aiutare dalla classica distinzione di scuola tra la fede nel senso soggettivo dell’atto di credere\, del porre la fiducia (fides quae) e la fede nel senso di cose credute (fides qua) forse\, e in prima battuta\, possiamo dire che la fede da curare si colloca tutta dal lato dell’atto del credere\, del soggetto credente e dei modi o delle forme in cui esso esercita e manifesta la sua fede.\nIn effetti\, se pensassimo ad alcune patologie che potrebbero essere oggetto di “cura” e che potremmo elencare\, troveremmo in prima approssimazione atteggiamenti e vissuti che hanno tutti a che fare con l’esercizio della fede del singolo ma anche delle comunità\, con una fede che per il tramite di queste patologie appare debole o\, perché no\, malata. \nSi pensi per esempio a queste possibili patologie:\n– il dubbio\n– l’arroganza\n– la presunzione\n– il dogmatismo\n– il fideismo\n– e la lista potrebbe continuare. \nCurare la fede\, tutto sommato\, se ci addentriamo nei fenomeni di queste patologie appare come un compito necessario\, forse urgente\, anche in considerazione dei tempi che stiamo vivendo. \nContinua la lettura qui \nIl tema\, dunque\, potrebbe ben suggerire e incoraggiare la partecipazione al nostro Convegno di Studi \nTi aspettiamo \n(Giacomo Carlo Di Gaetano) \n  \n \n  \nPablo Martinez\, medico psichiatra e conferenziere spagnolo\, è già stato ospite del Convegno Nazionale GBU nel 2011 (La spina nella carne). \n  \n  \n  \n  \nIn italiano le Edizioni GBU hanno pubblicato diversi suoi libri. \nAbba Padre\, Teologia e psicologia della preghiera (1998\, con José M. Martinez)\nLa spina nella carne\, Come trovare forza e speranza nella sofferenza (2011)\nInseguendo l’arcobaleno\, Oltre il dolore\, il lutto e le separazioni (2014)\nAbbi cura di te stesso. Resistere e progredire nel servizio cristiano (2020)\nL’unico conforto nella vita e nella morte. Credere e sperare nella pandemia (2020 con J. Lamb e G.C. Di Gaetano) \nNumerosi suoi articoli sono stati pubblicati dal DiRS \n  \nCome da tradizione\, anche nel Convegno Studi di questo anno: \n\nci saranno le attività seminariali a cura della fellowship GBU;\nè previsto il servizio per i bambini in età scolare in tutte le sessione plenarie;\nci sarà il banco delle Edizioni GBU con le speciali occasioni del Convegno.\n\nPer info\, scrivere a info@edizionigbu.it \n  \n  \n 
URL:https://dirs.gbu.it/evento/15-convegno-di-studi-gbu/
LOCATION:Grand Hotel Montesilvano\, Viale Kennedy\, 28\, Montesilvano\, Pescara\, 65015\, Italia
CATEGORIES:Conferenze,Convegno Nazionale GBU
ATTACH;FMTTYPE=image/jpeg:https://dirs.gbu.it/wordpress/wp-content/uploads/2022/02/IMG_0304-scaled.jpg
ORGANIZER;CN="DiRS GBU (Associazione GBU%2C Edizioni GBU%2C Sala di Lettura GBU)":MAILTO:convegnonazionale@gbu.it
END:VEVENT
BEGIN:VEVENT
DTSTART;TZID=Europe/Rome:20191031T150000
DTEND;TZID=Europe/Rome:20191103T150000
DTSTAMP:20260419T185947
CREATED:20181210T064149Z
LAST-MODIFIED:20191112T212405Z
UID:1361-1572534000-1572793200@dirs.gbu.it
SUMMARY:XIV Convegno Nazionale GBU
DESCRIPTION:La plausibilità della visione biblica della sessualità umana\nEd Shaw\n(Gran Bretagna) \n(31 ottobre – 3 novembre 2019)\nMontesilvano (PE)\nGrand Hotel Montesilvano \n  \nQuesti sono i titoli delle sessioni plenarie che Ed Shaw presenterà \n1) La nostra cultura e la sessualità \n2) La bibbia e la sessualità \n3) La bibbia e l’omosessualità \n4) La chiesa e la sessualità \n5) Evangelizzazione e la sessualità \nNOTE di Ed SHAW \nVedi la galleria fotografica \nLeggi Grazie Ed (Shaw): una voce profetica (di Marco Arturo)\nProgramma CN 2019\n  \nDurante il Convegno si sono tenuti alcuni seminari: \n\nLa natura in Romani 1 tra concezione giudeo-cristiana e filosofia ellenistica\, Giancarlo Rinaldi (Università di Napoli)\nCome essere felici da single\, Paul Chattfield (Pastore della INternational Church di Torino\, gia Staff GBU nella medesima città)\nUn seminario interattivo e pratico per capire come vivere al meglio l’essere single.  Trarremo ispirazione dalla Bibbia\, da vari studi accademici\, dalla psicologia e dalle vostre esperienze\, il tutto al fine di aiutare chi è single a vivere meglio quetsa condizione.\nL’influenza della ipersessualizzazione sulla vita di una coppia\, Daniel e Angela Wiens (“Liberati in Cristo”\, Modena)\nDato che oggi la pornografia è accessibile\, anonima ed abbordabile\, il seminario si incentrerà sul racconto di come un tale fenomeno ha condizionato la vita di una coppia e sugli efetti che ha prodotto sul loro matrimonio.\nIl concetto di “plausibilità” nell’ambito dell’apologetica\, Giacomo Carlo Di Gaetano (DiRS GBU)\nIl testo di Ed Shaw introduce nella riflessione relativa alla difesa della fede cristiana nonché delle sue conseguenze etiche\, una categoria del pensiero della sociologia della conoscenza\, vale a dire la “plausibilità”; il seminario esplora questa categoria e ne valuta punti di forza e dobolezze in apologetica.\nLa voce di Hollywood sui sentimenti d’amore\, Valerio Bernardi (DiRS GBU)\nSeminario per responsabili di chiese sul tema dell’attrazione verso lo stesso sesso a cura di Ed Shaw\nPer partecipare a questo seminario da parte di esterni al Convegno è necessario prenotarsi per tempo (gdiga@tiscali.it)\n\n  \nQuota di partecipazione (sconto fino al 30 settembre)\nStudenti da 12 anni in su (scontata) € 110\,00\nIntera (scontatata) € 130\,00\nCoppia (scontata) € 240\,00\nBambini 4-11 anni (scontata) € 80\,00\nBambini 0-3 anni € 0\,00\nCamera singola € 45\,00 al giorno \nISCRIVITI QUI\nQuota di partecipazione (senza sconto)\nIntera € 150\,00 (sistemazione in camera doppia/tripla)\nStudenti (università e scuola media/superiore) € 130\,00 (stessa sistemazione)\nFormula Famiglie: Coppia € 255 + € 85 per ogni bambino dai 4 agli 11 anni compiuti\nBambini 0/3 anni: GRATIS \nSarà possibile registrarsi a partire dalle ore 14.00 di giovedì 31 ottobre\nIl Convegno inizia ufficialmente con la cena (ore 19.30)\nIl Convegno si conclude con il pranzo di domanica 3 novembre \n  \nComitato organizzatore:\nGiacomo C. Di Gaetano (DiRS – Edizioni GBU);\nJohan Soderquist (Segretario Generale GBU);\nDavide Maglie (Presidente Ass. GBU – Ass. Amici della Sala di Lettura GBU);\nFrancesco Schiano (Staff GBU);\nGiampiero Picciani (Edizioni GBU) \nPer informazioni e contatti: convegnonazionale@gbu.it  \n  \nENDORSEMENT \nÈ difficile costruire un convegno capace di suscitare allo stesso tempo interesse negli adulti\, nei giovani\, negli adolescenti\, ma anche nei genitori. Sto parlando del prossimo convegno Gbu dal titolo. “La plausibilità della visione biblica della sessualità”.A dispetto di un titolo che vuole essere rassicurante\, sarete coinvolti nei vari livelli di comprensione di un tema che va ben oltre i nostri imbarazzi. La cultura\, la Bibbia\, la chiesa e perfino l’evangelizzazione saranno gli ambiti di riflessione sulla sessualità. Chi è l’oratore temerario\, capace di questo? Ed Show. What else. Ma non solo questo ho dato un occhiata ai seminari\, c’è solo l’imbarazzo della scelta. Devo solo rimproverare gli organizzatori di non aver proposto prima questo convegno.\nSaverio Bisceglia (medico e anziano di una Chiesa evangelica “dei fratelli” di Roma – Via Prenestina) \n“Convegno Nazionale dei GBU\, che dire? Per me è uno tra i migliori incontri evangelici in Italia. Frequentato da tantissimi giovani e da tanti “diversamente” giovani\, mi ha sempre stimolato ed edificato spiritualmente e teologicamente. L’ho sempre vissuto come un momento di confronto spirituale e di grande stimolo intellettuale. Quest’anno non mancherò di certo.”\nGiancarlo Farina (Direttore di Casa della Bibbia) \nCrescere\, informarsi\, approfondire tutto questo è il convegno dei GBU. Partecipo ogni anno e mi offre una grande opportunità di crescita e confronto su temi biblici molte volte ignorati.\nAnche quest’anno ci sarò.\nAngelo Bleve (Pastore della chiesa ADI di San Benedetto del Tronto)\n \nI Gruppi Biblici Universitari hanno dato un senso (biblico) alla mia vita da studente all’Università\, un senso riassunto dal loro motto: “Condividere Gesù da studente a studente”. Il convegno annuale è una grande opportunità per scoprire il mondo del GBU: incontrerete studenti\, coordinatori\, staff\, e potrete trovare tantissime ottime pubblicazioni delle edizioni GBU a un prezzo scontato.\nGianluca Nuti (studente magistrale presso l’Università di Padova)\n \nIl convegno Gbu ha caratteristiche abbastanza peculiari. Innanzi tutto\, pur essendo pensato espressamente per gli studenti universitari\, è utile e interessante anche per chi studente non è ma è responsabilmente interessato alla crescita nella vita cristiana sia sul versante del pensiero che su quello talvolta più complesso dell’etica.\nPoi nel suo format.\nUn tema specifico\, un oratore specializzato sull’argomento\, un libro quasi sempre dello stesso oratore che permette di fissare nel tempo il contenuto delle relazione e\, last but not least una serie di seminari interattivi che permettono di interagire sull’argomento del convegno e conoscere meglio l’attività GBU.\nBen fatto: parteciparvi è uno stimolo oltreché un piacere.\nGioele Corradini (Già responsabile di una chiesa evangelica di Bologna) \n  \nSe vuoi ricevere le info relative al mondo GBU\, in particolare: \n– sui Libri delle Edizioni GBU\, \n– sugli articoli del DiRS-GBU e \n– sul Convegno Nazionale\, \n\ninserisci i tuoi dati (mail\, nome e cognome) e iscriviti alla nostra (compila questo moduletto)
URL:https://dirs.gbu.it/evento/xiv-convegno-nazionale-gbu/
LOCATION:Grand Hotel Montesilvano\, Viale Kennedy\, 28\, Montesilvano\, Pescara\, 65015\, Italia
CATEGORIES:Convegno Nazionale GBU
ATTACH;FMTTYPE=image/jpeg:https://dirs.gbu.it/wordpress/wp-content/uploads/2018/12/Facebook_2019.jpg
ORGANIZER;CN="DiRS GBU (Associazione GBU%2C Edizioni GBU%2C Sala di Lettura GBU)":MAILTO:convegnonazionale@gbu.it
END:VEVENT
BEGIN:VEVENT
DTSTART;TZID=Europe/Rome:20171207T180000
DTEND;TZID=Europe/Rome:20171210T140000
DTSTAMP:20260419T185947
CREATED:20170915T115855Z
LAST-MODIFIED:20190926T221510Z
UID:11-1512669600-1512914400@dirs.gbu.it
SUMMARY:XII Convegno Nazionale del GBU italiano
DESCRIPTION:IL MESSAGGIO DI GESÙ CRISTO IN UNA CULTURA COMPLESSA\n(Darrel L. Bock)\nLeggi un commento di Francesca Polchi \n(GBU Firenze) \nCome sopravvivere a una conversazione difficile  \n  \n  \n  \nVedi la galleria fotografica (a cura di Gino Tucci\, Gravina) \n  \nPROGRAMMA completo\nTitoli delle plenarie e del percorso Riforma 500\n  \nPlenaria 1. Prepararsi adeguatamente alla battaglia: ridefinire il conflitto culturale\n(Vedi il video) \nPlenaria 2. Lezioni paoline per il confronto culturale\n(Vedi il video) \nPlenaria 3. Come affrontare e condure un dialogo difficile\n(Vedi il video) \nPlenaria 4. Il vangelo rintracciato nella promessa e nei sacramenti\n(Vedi il video) \nPlenaria 5. Che cos’è il vangelo? Uno sguardo a Luca 3:16 e Romani 1:16-17\n(Vedi il video) \nPlenaria 6. Perché l’amore è un imperativo?\n(Vedi il video) \n\nRiforma 500.\nTutto è iniziato in una Università: Wittenberg 1517–Montesilvano 2017\nLa pluralità della Riforma\, (M Rubboli\, Università di Genova) \nGiovanni Calvino: il riformatore profugo\, (E. Fiume\, Chiesa Valdese di Roma) \nDipanare la Riforma: con Lutero\, oltre Lutero\, (S. Maghenzani\, Università di Cambridge) \nRisvolti storici e artistici della Riforma nell’Inghilterra del ‘600\, (F. Falcone\, Dottore di Ricerca in Letteratura inglese) \nIl progetto Bibbia Italiana della Riforma (BIR) nell’ambito delle traduzioni della Bibbia\, (A. Pecchioli\, Società Biblica Italiana\, Edizioni GBU) \n“Far brillare la luce in mezzo alle tenebre”: la collezione Guicciardini.\, (L. Venturi\, Biblioteca Nazionale Centrale di Firenze) \nLa Riforma è superata / La Riforma non è superata\, (GC Di Gaetano\, Università di Chieti – V. Bernardi\, Università della Basilicata) \nMostra sulla Riforma radicale (a cura di UCEBI) \nMostra della Bibbia (a cura di GBU) \n\n  \n  \n 
URL:https://dirs.gbu.it/evento/xii-convegno-nazionale-del-gbu-italiano/
LOCATION:Grand Hotel Montesilvano\, Viale Kennedy\, 28\, Montesilvano\, Pescara\, 65015\, Italia
CATEGORIES:Convegno Nazionale GBU
ATTACH;FMTTYPE=image/jpeg:https://dirs.gbu.it/wordpress/wp-content/uploads/2017/11/1500x430_banner_convegno2017.jpg
ORGANIZER;CN="DiRS GBU (Associazione GBU%2C Edizioni GBU%2C Sala di Lettura GBU)":MAILTO:convegnonazionale@gbu.it
END:VEVENT
BEGIN:VEVENT
DTSTART;TZID=Europe/Rome:20151204T080000
DTEND;TZID=Europe/Rome:20151207T170000
DTSTAMP:20260419T185947
CREATED:20150901T125525Z
LAST-MODIFIED:20171113T113412Z
UID:326-1449216000-1449507600@dirs.gbu.it
SUMMARY:X Convegno Nazionale del GBU italiano
DESCRIPTION:X Convegno Nazionale del GBU italiano\n4–7 dicembre 2015\nMontesilvano (PE) \nIl vangelo di Gesù Cristo\nDonald A. Carson \n  \n  \n  \n  \n  \nSessioni plenarie \nVenerdì 4 Dicembre\n1 Corinzi 15:1-19 Un tema di importanza primaria \n  \nSabato 5 Dicembre\nGiovanni 3:1-21 La nuova nascita \nRomani 3:21-26 La giustificazione \nGiovanni 20:24-31 La risurrezione e il dubbio \n  \nDomenica 6 Dicembre\nLuca 16:19-31 Le conseguenze eterne \nPresentazione The Gospel Coalition \nGalati 5:16-26 Plenaria Lo Spirito che trasforma \n  \n  \n 
URL:https://dirs.gbu.it/evento/x-convegno-nazionale-del-gbu-italiano/
LOCATION:Grand Hotel Montesilvano\, Viale Kennedy\, 28\, Montesilvano\, Pescara\, 65015\, Italia
CATEGORIES:Convegno Nazionale GBU
ATTACH;FMTTYPE=image/jpeg:https://dirs.gbu.it/wordpress/wp-content/uploads/2017/11/2015_bannerconvegno.jpg
ORGANIZER;CN="DiRS GBU (Associazione GBU%2C Edizioni GBU%2C Sala di Lettura GBU)":MAILTO:convegnonazionale@gbu.it
END:VEVENT
END:VCALENDAR